BEGIN:VCALENDAR
VERSION:2.0
PRODID:-//Christian Challenge - UCCS - ECPv5.1.1//NONSGML v1.0//EN
CALSCALE:GREGORIAN
METHOD:PUBLISH
X-WR-CALNAME:Christian Challenge - UCCS
X-ORIGINAL-URL:https://challengecos.com
X-WR-CALDESC:Events for Christian Challenge - UCCS
BEGIN:VTIMEZONE
TZID:America/Denver
BEGIN:DAYLIGHT
TZOFFSETFROM:-0700
TZOFFSETTO:-0600
TZNAME:MDT
DTSTART:20240310T090000
END:DAYLIGHT
BEGIN:STANDARD
TZOFFSETFROM:-0600
TZOFFSETTO:-0700
TZNAME:MST
DTSTART:20241103T080000
END:STANDARD
END:VTIMEZONE
BEGIN:VEVENT
DTSTART;TZID=America/Denver:20240315T183000
DTEND;TZID=America/Denver:20240315T210000
DTSTAMP:20260419T133755
CREATED:20240227T173220Z
LAST-MODIFIED:20240304T201100Z
UID:6350-1710527400-1710536400@challengecos.com
SUMMARY:Guy's Movie Night
DESCRIPTION:This is an guys only event and we are going to have a spectacular time watching Spider-man 2 (2004) and eating some great pizza! We will start this amazing event at 6:30pm and we’ll start the movie at 7:00pm. Feel free to invite friends\, co-workers\, and classmates for an ultimate time of pizza and Spider-man. Please RSVP below by March 13th! \n﻿﻿Loading… \n
URL:https://challengecos.com/event/guys-movie-night/
LOCATION:4683 Saddle Ridge Dr\, 4683 Saddle Ridge Dr.\, Colorado Springs\, CO\, 80922\, United States
ATTACH;FMTTYPE=image/jpeg:https://challengecos.com/wp-content/uploads/2024/02/661B86A3-4345-4650-B7E6-DD99BF117E54_1_201_a.jpeg
ORGANIZER;CN="Jaymee%20Collins":MAILTO:j.j.collins12@gmail.com
END:VEVENT
END:VCALENDAR