BEGIN:VCALENDAR
VERSION:2.0
PRODID:-//Christian Challenge - UCCS - ECPv5.1.1//NONSGML v1.0//EN
CALSCALE:GREGORIAN
METHOD:PUBLISH
X-WR-CALNAME:Christian Challenge - UCCS
X-ORIGINAL-URL:https://challengecos.com
X-WR-CALDESC:Events for Christian Challenge - UCCS
BEGIN:VTIMEZONE
TZID:America/Denver
BEGIN:DAYLIGHT
TZOFFSETFROM:-0700
TZOFFSETTO:-0600
TZNAME:MDT
DTSTART:20230312T090000
END:DAYLIGHT
BEGIN:STANDARD
TZOFFSETFROM:-0600
TZOFFSETTO:-0700
TZNAME:MST
DTSTART:20231105T080000
END:STANDARD
END:VTIMEZONE
BEGIN:VEVENT
DTSTART;TZID=America/Denver:20231109T183000
DTEND;TZID=America/Denver:20231109T200000
DTSTAMP:20260419T200817
CREATED:20230801T171831Z
LAST-MODIFIED:20231030T151359Z
UID:5561-1699554600-1699560000@challengecos.com
SUMMARY:Community Night: Sardines
DESCRIPTION:This week at Community Night\, find us in Summit Village and play sardines with us. Sardines is like reverse hide and seek\, where one person hides\, and everyone else seeks them. \nCommunity nights are happening every Thursday night from 6:30pm to 8pm. We will be playing different group games every week. Come get to know students on campus and have some fun along the way! Please invite your friends and classmates to these events. If you’d like to see what else\, we are doing for our Community Nights you can click here! \n
URL:https://challengecos.com/event/community-night-sardines/
LOCATION:Summit Village\, 1420 Austin Bluffs Pkwy\, Colorado Springs\, CO\, 80918\, United States
ATTACH;FMTTYPE=image/jpeg:https://challengecos.com/wp-content/uploads/2022/08/Community-Night-Image-for-Home-Page.jpg
END:VEVENT
END:VCALENDAR