BEGIN:VCALENDAR
VERSION:2.0
PRODID:-//Christian Challenge - UCCS - ECPv5.1.1//NONSGML v1.0//EN
CALSCALE:GREGORIAN
METHOD:PUBLISH
X-WR-CALNAME:Christian Challenge - UCCS
X-ORIGINAL-URL:https://challengecos.com
X-WR-CALDESC:Events for Christian Challenge - UCCS
BEGIN:VTIMEZONE
TZID:America/Denver
BEGIN:DAYLIGHT
TZOFFSETFROM:-0700
TZOFFSETTO:-0600
TZNAME:MDT
DTSTART:20230312T090000
END:DAYLIGHT
BEGIN:STANDARD
TZOFFSETFROM:-0600
TZOFFSETTO:-0700
TZNAME:MST
DTSTART:20231105T080000
END:STANDARD
END:VTIMEZONE
BEGIN:VEVENT
DTSTART;TZID=America/Denver:20230909T090000
DTEND;TZID=America/Denver:20230909T120000
DTSTAMP:20260419T234832
CREATED:20230801T184219Z
LAST-MODIFIED:20230904T213545Z
UID:5581-1694250000-1694260800@challengecos.com
SUMMARY:Photo Scavenger Hunt
DESCRIPTION:We will be doing a photo scavenger hunt around campus\, and you will not want to miss it!  The competition will begin at 9:00AM in the Student Life Office (across from the UCCS Bookstore). Join the fun and may the best team win! Please RSVP below if you plan to join us and let us know if you’ll be bringing friends! \nThe game will end by 12:00PM and everyone is invited to lunch at Raising Canes (on Garden of the Gods). They have generously provided free meals for the winning team\, so the winners can enjoy a free lunch with us on Saturday or use it for a future visit. \n﻿﻿Loading… \n
URL:https://challengecos.com/event/photo-scavenger-hunt-4/
LOCATION:Student Life & Leadership Office
ATTACH;FMTTYPE=image/jpeg:https://challengecos.com/wp-content/uploads/2023/09/Website-Home-Page-Pics-3-1.jpg
END:VEVENT
END:VCALENDAR