BEGIN:VCALENDAR
VERSION:2.0
PRODID:-//Christian Challenge - UCCS - ECPv5.1.1//NONSGML v1.0//EN
CALSCALE:GREGORIAN
METHOD:PUBLISH
X-WR-CALNAME:Christian Challenge - UCCS
X-ORIGINAL-URL:https://challengecos.com
X-WR-CALDESC:Events for Christian Challenge - UCCS
BEGIN:VTIMEZONE
TZID:America/Denver
BEGIN:DAYLIGHT
TZOFFSETFROM:-0700
TZOFFSETTO:-0600
TZNAME:MDT
DTSTART:20230312T090000
END:DAYLIGHT
BEGIN:STANDARD
TZOFFSETFROM:-0600
TZOFFSETTO:-0700
TZNAME:MST
DTSTART:20231105T080000
END:STANDARD
END:VTIMEZONE
BEGIN:VEVENT
DTSTART;TZID=America/Denver:20230729T183000
DTEND;TZID=America/Denver:20230729T183000
DTSTAMP:20260420T024141
CREATED:20230509T163253Z
LAST-MODIFIED:20230729T215520Z
UID:5368-1690655400-1690655400@challengecos.com
SUMMARY:Pie in the Park
DESCRIPTION:DUE TO CHANCE OF RAIN\, WE’RE MOVING THE EVENT INDOORS. JOIN US AT 6722 OASIS BUTTE DR. FOR PIES AND GAMES. \n\nCome join us for a night full of pie and games in the park! This event has been a summer favorite\, so don’t miss out. The plan is simple…lots of pies and lots of fun!  RSVP below so we can plan accordingly.\n\nWe will meet at Dublin Park (2450 Roundtop Dr.).  If you have a camping chair or blanket feel free to bring it\, just in case we need more seating.  It’s going to be a fun night\, and we look forward to seeing you there!\n\n﻿Loading… \n
URL:https://challengecos.com/event/pie-in-the-park-3/
LOCATION:6722 Oasis Butte Dr\, 6722 Oasis Butte Dr\, Colorado Springs\, CO\, 80923\, United States
ATTACH;FMTTYPE=image/jpeg:https://challengecos.com/wp-content/uploads/2023/07/Pie-in-th.jpg-e1690667709999.jpeg
ORGANIZER;CN="Kent%20Slack":MAILTO:challengeuccs@gmail.com
END:VEVENT
END:VCALENDAR