BEGIN:VCALENDAR
VERSION:2.0
PRODID:-//Christian Challenge - UCCS - ECPv5.1.1//NONSGML v1.0//EN
CALSCALE:GREGORIAN
METHOD:PUBLISH
X-WR-CALNAME:Christian Challenge - UCCS
X-ORIGINAL-URL:https://challengecos.com
X-WR-CALDESC:Events for Christian Challenge - UCCS
BEGIN:VTIMEZONE
TZID:America/Denver
BEGIN:DAYLIGHT
TZOFFSETFROM:-0700
TZOFFSETTO:-0600
TZNAME:MDT
DTSTART:20230312T090000
END:DAYLIGHT
BEGIN:STANDARD
TZOFFSETFROM:-0600
TZOFFSETTO:-0700
TZNAME:MST
DTSTART:20231105T080000
END:STANDARD
END:VTIMEZONE
BEGIN:VEVENT
DTSTART;TZID=America/Denver:20230507T190000
DTEND;TZID=America/Denver:20230507T220000
DTSTAMP:20260420T060837
CREATED:20230420T185513Z
LAST-MODIFIED:20230420T185513Z
UID:5325-1683486000-1683496800@challengecos.com
SUMMARY:Second Sunday: Study Break
DESCRIPTION:Take a break from your stressing and prepping for finals week and join us for some FREE food and fun. Our monthly dinner and game night will take place at 6722 Oasis Butte Dr. You are invited to come and go as needed between 7:00PM to 10:00PM. \n﻿Loading… \n
URL:https://challengecos.com/event/second-sunday-study-break/
LOCATION:6722 Oasis Butte Dr\, 6722 Oasis Butte Dr\, Colorado Springs\, CO\, 80923\, United States
ATTACH;FMTTYPE=image/jpeg:https://challengecos.com/wp-content/uploads/2023/04/20230416_202147-scaled.jpg
END:VEVENT
END:VCALENDAR