BEGIN:VCALENDAR
VERSION:2.0
PRODID:-//Christian Challenge - UCCS - ECPv5.1.1//NONSGML v1.0//EN
CALSCALE:GREGORIAN
METHOD:PUBLISH
X-WR-CALNAME:Christian Challenge - UCCS
X-ORIGINAL-URL:https://challengecos.com
X-WR-CALDESC:Events for Christian Challenge - UCCS
BEGIN:VTIMEZONE
TZID:America/Denver
BEGIN:DAYLIGHT
TZOFFSETFROM:-0700
TZOFFSETTO:-0600
TZNAME:MDT
DTSTART:20200308T090000
END:DAYLIGHT
BEGIN:STANDARD
TZOFFSETFROM:-0600
TZOFFSETTO:-0700
TZNAME:MST
DTSTART:20201101T080000
END:STANDARD
END:VTIMEZONE
BEGIN:VEVENT
DTSTART;TZID=America/Denver:20200602T191500
DTEND;TZID=America/Denver:20200602T191500
DTSTAMP:20260424T060725
CREATED:20200531T061604Z
LAST-MODIFIED:20200531T061909Z
UID:1954-1591125300-1591125300@challengecos.com
SUMMARY:Zoom Game Night
DESCRIPTION:We’re kicking off the summer with a game night that you won’t want to miss!  The night will be filled with fun\, laughter\, friendly competition\, and even some prizes! So make plans to join us and invite other students you know.  And remember\, incoming freshmen are also invited! \nThe game night will begin at 7:15pm\, but the room will be open by 7:00 if you want to hang out beforehand. \nClick here to join our Zoom Game Night! \n
URL:https://challengecos.com/event/zoom-game-night/
LOCATION:ZOOM
ATTACH;FMTTYPE=image/gif:https://challengecos.com/wp-content/uploads/2020/05/game-night-header.gif
ORGANIZER;CN="Kent%20Slack":MAILTO:challengeuccs@gmail.com
END:VEVENT
END:VCALENDAR