BEGIN:VCALENDAR
VERSION:2.0
PRODID:-//Christian Challenge - UCCS - ECPv5.1.1//NONSGML v1.0//EN
CALSCALE:GREGORIAN
METHOD:PUBLISH
X-WR-CALNAME:Christian Challenge - UCCS
X-ORIGINAL-URL:https://challengecos.com
X-WR-CALDESC:Events for Christian Challenge - UCCS
BEGIN:VTIMEZONE
TZID:America/Denver
BEGIN:DAYLIGHT
TZOFFSETFROM:-0700
TZOFFSETTO:-0600
TZNAME:MDT
DTSTART:20200308T090000
END:DAYLIGHT
BEGIN:STANDARD
TZOFFSETFROM:-0600
TZOFFSETTO:-0700
TZNAME:MST
DTSTART:20201101T080000
END:STANDARD
END:VTIMEZONE
BEGIN:VEVENT
DTSTART;TZID=America/Denver:20200220T190000
DTEND;TZID=America/Denver:20200220T210000
DTSTAMP:20260424T153441
CREATED:20200125T041555Z
LAST-MODIFIED:20200125T042147Z
UID:1301-1582225200-1582232400@challengecos.com
SUMMARY:Women's L.I.F.E. Group
DESCRIPTION:This 6-week study is called “Living in the Light of the Gospel”.  Join us at 3303 Jon St. at 7:00pm.  Sign up below if you’re interested. \nLoading… \n
URL:https://challengecos.com/event/womens-life-group-4/
LOCATION:3303 Jon St.\, 3303 Jon St.\, Colorado Springs\, CO\, 80907
END:VEVENT
END:VCALENDAR