BEGIN:VCALENDAR
VERSION:2.0
PRODID:-//Christian Challenge - UCCS - ECPv5.1.1//NONSGML v1.0//EN
CALSCALE:GREGORIAN
METHOD:PUBLISH
X-WR-CALNAME:Christian Challenge - UCCS
X-ORIGINAL-URL:https://challengecos.com
X-WR-CALDESC:Events for Christian Challenge - UCCS
BEGIN:VTIMEZONE
TZID:America/Denver
BEGIN:DAYLIGHT
TZOFFSETFROM:-0700
TZOFFSETTO:-0600
TZNAME:MDT
DTSTART:20210314T090000
END:DAYLIGHT
BEGIN:STANDARD
TZOFFSETFROM:-0600
TZOFFSETTO:-0700
TZNAME:MST
DTSTART:20211107T080000
END:STANDARD
END:VTIMEZONE
BEGIN:VEVENT
DTSTART;TZID=America/Denver:20210219T133000
DTEND;TZID=America/Denver:20210219T170000
DTSTAMP:20260422T225927
CREATED:20210212T101652Z
LAST-MODIFIED:20210212T162740Z
UID:3150-1613741400-1613754000@challengecos.com
SUMMARY:WINTER STAYCATION: Hot Drinks & Ice Cream
DESCRIPTION:There’s no better way to end your Winter Staycation than with a little bit of time to simply slow down and relax with your friends.  We will have a variety of hot drinks available and we will have ice cream for everyone before the event ends.  This time will be fairly unstructured\, however we will have plenty of options for things to do if you’re interested. Please RSVP to help us plan accordingly. \n Loading… \n
URL:https://challengecos.com/event/winter-staycation-hot-drinks-ice-cream/
LOCATION:6722 Oasis Butte Dr\, 6722 Oasis Butte Dr\, Colorado Springs\, CO\, 80923\, United States
ATTACH;FMTTYPE=image/png:https://challengecos.com/wp-content/uploads/2021/02/Hot-Drinks-Ice-Cream.png
END:VEVENT
END:VCALENDAR