BEGIN:VCALENDAR
VERSION:2.0
PRODID:-//Christian Challenge - UCCS - ECPv5.1.1//NONSGML v1.0//EN
CALSCALE:GREGORIAN
METHOD:PUBLISH
X-WR-CALNAME:Christian Challenge - UCCS
X-ORIGINAL-URL:https://challengecos.com
X-WR-CALDESC:Events for Christian Challenge - UCCS
BEGIN:VTIMEZONE
TZID:America/Denver
BEGIN:DAYLIGHT
TZOFFSETFROM:-0700
TZOFFSETTO:-0600
TZNAME:MDT
DTSTART:20210314T090000
END:DAYLIGHT
BEGIN:STANDARD
TZOFFSETFROM:-0600
TZOFFSETTO:-0700
TZNAME:MST
DTSTART:20211107T080000
END:STANDARD
END:VTIMEZONE
BEGIN:VEVENT
DTSTART;TZID=America/Denver:20210731T090000
DTEND;TZID=America/Denver:20210731T090000
DTSTAMP:20260422T102648
CREATED:20210531T040001Z
LAST-MODIFIED:20210731T135623Z
UID:3497-1627722000-1627722000@challengecos.com
SUMMARY:Summer Hike
DESCRIPTION:UPDATE: THINGS ARE LOOKING BETTER!  WE CANNOT GUARANTEE YOU WON’T GET WET\, BUT THE CHANCES OF RAIN HAVE DROPPED CONSIDERABLY IN THE LAST FEW HOURS AND THUNDERSTORMS SEEEM TO BE PUSHED BACK UNTIL AFTER WE WOULD BE DONE.  WE’RE GOING TO KEEP OUR ORIGINAL PLANS…SO LET’S GOOOOOOOOO! \n  \nDon’t miss out on our final event of the summer!  Meet us at Spruce Mountain Open Space Trailhead in Larkspur (13415 S. Spruce Mountain Rd.) at 9AM.  We’ll be hiking approximately 5 miles\, so please plan accordingly.  Please RSVP so we know who plans to join us. \nWe will provide some snacks and bottles of water for you to grab before the hike begins. \nRestrooms are available at the trailhead. \nAfter the hike is over\, everyone is invited to go to Lolley’s Ice Cream in Monument (175 2nd St.).  Everyone will pay for their own treats.  This place is awesome…delicious homemade ice cream and baked goods.  And if you are GLUTEN FREE or DAIRY FREE they have great options for you to enjoy. \nWe hope to see you on Saturday.  Please remember to RSVP below! \nLoading… \n
URL:https://challengecos.com/event/summer-hike/
LOCATION:Spruce Mountain Open Space Trailhead\, 13415 S. Spruce Mountain Rd.\, Larkspur\, CO\, 80118\, United States
ATTACH;FMTTYPE=image/png:https://challengecos.com/wp-content/uploads/2021/07/Homepage-Template-4.png
ORGANIZER;CN="Kent%20Slack":MAILTO:challengeuccs@gmail.com
END:VEVENT
END:VCALENDAR