BEGIN:VCALENDAR
VERSION:2.0
PRODID:-//Christian Challenge - UCCS - ECPv5.1.1//NONSGML v1.0//EN
CALSCALE:GREGORIAN
METHOD:PUBLISH
X-WR-CALNAME:Christian Challenge - UCCS
X-ORIGINAL-URL:https://challengecos.com
X-WR-CALDESC:Events for Christian Challenge - UCCS
BEGIN:VTIMEZONE
TZID:America/Denver
BEGIN:DAYLIGHT
TZOFFSETFROM:-0700
TZOFFSETTO:-0600
TZNAME:MDT
DTSTART:20200308T090000
END:DAYLIGHT
BEGIN:STANDARD
TZOFFSETFROM:-0600
TZOFFSETTO:-0700
TZNAME:MST
DTSTART:20201101T080000
END:STANDARD
END:VTIMEZONE
BEGIN:VEVENT
DTSTART;TZID=America/Denver:20200623T191500
DTEND;TZID=America/Denver:20200623T191500
DTSTAMP:20260424T094528
CREATED:20200531T090010Z
LAST-MODIFIED:20200531T090010Z
UID:1968-1592939700-1592939700@challengecos.com
SUMMARY:Summer Bible Study
DESCRIPTION:This summer everyone is even more spread out than usual! Fortunately\, we have the technology to come together no matter where we are.  Over the last few months we’ve seen just how impactful our online Bible studies can be…and this summer will be no different!  So we hope you will choose to join us on Zoom throughout this summer.  And don’t forget to encourage other students to join us! \nWe will continue to provide opportunities for you to be challenged and encouraged through the study of God’s Word this summer.  In doing so\, we also provide opportunities for you to establish and grow your relationships with other students within Christian Challenge. \nBefore clicking on the link below\, we encourage you to grab the following:\n– a Bible\n– something to write on\n– something to write with\n \nCLICK HERE TO JOIN OUR SUMMER BIBLE STUDY.  (The room will be open around 7:00PM.) \n  \n*As restrictions change and circumstances improve\, we will continue to evaluate our options for in-person meetings.* \n
URL:https://challengecos.com/event/summer-bible-study-3/
LOCATION:ZOOM
ATTACH;FMTTYPE=image/jpeg:https://challengecos.com/wp-content/uploads/2020/05/Summer-Bible-Study.jpg
ORGANIZER;CN="Kent%20Slack":MAILTO:challengeuccs@gmail.com
END:VEVENT
END:VCALENDAR