BEGIN:VCALENDAR
VERSION:2.0
PRODID:-//Christian Challenge - UCCS - ECPv5.1.1//NONSGML v1.0//EN
CALSCALE:GREGORIAN
METHOD:PUBLISH
X-WR-CALNAME:Christian Challenge - UCCS
X-ORIGINAL-URL:https://challengecos.com
X-WR-CALDESC:Events for Christian Challenge - UCCS
BEGIN:VTIMEZONE
TZID:America/Denver
BEGIN:DAYLIGHT
TZOFFSETFROM:-0700
TZOFFSETTO:-0600
TZNAME:MDT
DTSTART:20230312T090000
END:DAYLIGHT
BEGIN:STANDARD
TZOFFSETFROM:-0600
TZOFFSETTO:-0700
TZNAME:MST
DTSTART:20231105T080000
END:STANDARD
END:VTIMEZONE
BEGIN:VEVENT
DTSTART;TZID=America/Denver:20230429T090000
DTEND;TZID=America/Denver:20230429T090000
DTSTAMP:20260419T173013
CREATED:20230404T222434Z
LAST-MODIFIED:20230425T005302Z
UID:5291-1682758800-1682758800@challengecos.com
SUMMARY:Spring Hike
DESCRIPTION:We hope you will make plans to join us for a wonderful hike this school year. We will be at Garden of the Gods (parking instructions below). We will meet at 9:00AM for the hike. Then (for those interested) after enjoying the outdoors and the scenic views we plan on meeting for lunch at Schlotzsky’s (4560 Centennial Blvd.) around noon.  As always\, this is going to be a fun time together\, so consider coming and invite a friend! WE ENCOURAGE YOU TO BRING WATER\, WEAR COMFORTABLE SHOES\, AND HAVE ANYTHING ELSE YOU FEEL YOU MAY NEED FOR THE HIKE. **Be sure to RSVP below to help us know who to look for before the hike begins. ** Please invite any of your friends!\n\nHow to find us:\nIn Google Maps type in GARDEN OF THE GODS PARKING and it will take you to the blue pin in the picture you see on the right.  (If you were to type in the physical address in Google Maps\, 3105 Gateway Rd.\, it takes you to the red pin. The actually parking lot is just a little further down the road and to your left\, as shown in the picture.) Look for us in the northeast corner of the parking lot\, near the “green triangle” seen on the map.  That is where the trails begin. **Apple maps does not map you to the correct location using either the address or the name.** \nIF WE HAVE TO MAKE ANY CHANGES\, WE WILL LET YOU KNOW. MORE DETAILS MAY BE ADDED TO THIS EVENT PAGE CLOSER TO THE HIKE\, SO PLEASE BE SURE TO CHECK BACK!\n \n﻿﻿﻿﻿Loading… \n
URL:https://challengecos.com/event/spring-hike-3/
LOCATION:Garden of the Gods\, 3105 Gateway Rd\, Colorado Springs\, CO 80904\, Colorado Springs\, CO\, United States
ATTACH;FMTTYPE=image/jpeg:https://challengecos.com/wp-content/uploads/2023/04/728cf07fde7177833f165ac470bdf5af.jpeg
END:VEVENT
END:VCALENDAR