BEGIN:VCALENDAR
VERSION:2.0
PRODID:-//Christian Challenge - UCCS - ECPv5.1.1//NONSGML v1.0//EN
CALSCALE:GREGORIAN
METHOD:PUBLISH
X-WR-CALNAME:Christian Challenge - UCCS
X-ORIGINAL-URL:https://challengecos.com
X-WR-CALDESC:Events for Christian Challenge - UCCS
BEGIN:VTIMEZONE
TZID:America/Denver
BEGIN:DAYLIGHT
TZOFFSETFROM:-0700
TZOFFSETTO:-0600
TZNAME:MDT
DTSTART:20220313T090000
END:DAYLIGHT
BEGIN:STANDARD
TZOFFSETFROM:-0600
TZOFFSETTO:-0700
TZNAME:MST
DTSTART:20221106T080000
END:STANDARD
END:VTIMEZONE
BEGIN:VEVENT
DTSTART;TZID=America/Denver:20220430T090000
DTEND;TZID=America/Denver:20220430T120000
DTSTAMP:20260422T201858
CREATED:20220224T083233Z
LAST-MODIFIED:20220425T161945Z
UID:4129-1651309200-1651320000@challengecos.com
SUMMARY:Spring Hike
DESCRIPTION:We hope you will make plans to join us for our final hike of the school year.  This time we will be at Blodgett Open Space.  The address is 3786 W Woodmen Rd (link provided near the bottom of this page).  We will meet at 9:00AM for the hike\, and then (for those interested) we will be going to Josh & John’s for ice cream around 11:00AM.  Everyone will be responsible for BUYING THEIR OWN ice cream.  Please note that they do have non-dairy options available for those with dietary restrictions. As always\, this is going to be a fun time together\, so consider coming and invite a friend! \nPARKING INSTRUCTIONS:  You can park in the parking lot at the trailhead OR along the side of the road (W. Woodmen) near the parking lot if it’s full. \nWE ENCOURAGE YOU TO BRING WATER\, WEAR COMFORTABLE SHOES\, AND HAVE ANYTHING ELSE YOU FEEL YOU MAY NEED FOR THE HIKE. \n**Be sure to RSVP below to help us know who to look for before the hike begins.** \nMORE DETAILS MAY BE ADDED TO THIS EVENT PAGE CLOSER TO THE HIKE\, SO PLEASE BE SURE TO CHECK BACK! \nLoading… \n
URL:https://challengecos.com/event/spring-hike-2/
LOCATION:Blodgett Open Space\, 3786 W Woodmen Rd.\, Colorado Springs\, CO\, 80919\, United States
ATTACH;FMTTYPE=image/jpeg:https://challengecos.com/wp-content/uploads/2022/02/blodgett-peak-hike.jpeg
END:VEVENT
END:VCALENDAR