BEGIN:VCALENDAR
VERSION:2.0
PRODID:-//Christian Challenge - UCCS - ECPv5.1.1//NONSGML v1.0//EN
CALSCALE:GREGORIAN
METHOD:PUBLISH
X-WR-CALNAME:Christian Challenge - UCCS
X-ORIGINAL-URL:https://challengecos.com
X-WR-CALDESC:Events for Christian Challenge - UCCS
BEGIN:VTIMEZONE
TZID:America/Denver
BEGIN:DAYLIGHT
TZOFFSETFROM:-0700
TZOFFSETTO:-0600
TZNAME:MDT
DTSTART:20210314T090000
END:DAYLIGHT
BEGIN:STANDARD
TZOFFSETFROM:-0600
TZOFFSETTO:-0700
TZNAME:MST
DTSTART:20211107T080000
END:STANDARD
END:VTIMEZONE
BEGIN:VEVENT
DTSTART;TZID=America/Denver:20211212T190000
DTEND;TZID=America/Denver:20211212T220000
DTSTAMP:20260422T184114
CREATED:20210831T023315Z
LAST-MODIFIED:20211129T224805Z
UID:3681-1639335600-1639346400@challengecos.com
SUMMARY:Second Sundays: Study Break
DESCRIPTION:Take a break from your stressing and prepping for finals week and join us for some FREE food and fun. Our monthly dinner and game night will take place at 6722 Oasis Butte Dr. You are invited to come and go as needed between 7:00PM to 10:00PM. \nThis will be a Christmas themed study break\, so come ready for games\, prizes\, cookie decorating\, a Christmas movie\, and SO MUCH MORE!  You can vote for your favorite movie in the RSVP section below.  To add to the fun\, everyone is also welcome to wear something festive or Christmas themed (santa hat\, ugly sweater\, Christmas socks\, etc.). \nLoading… \n
URL:https://challengecos.com/event/second-sundays-study-break/
LOCATION:6722 Oasis Butte Dr\, 6722 Oasis Butte Dr\, Colorado Springs\, CO\, 80923\, United States
ATTACH;FMTTYPE=image/png:https://challengecos.com/wp-content/uploads/2021/08/Study-Break-Website.png
END:VEVENT
END:VCALENDAR