BEGIN:VCALENDAR
VERSION:2.0
PRODID:-//Christian Challenge - UCCS - ECPv5.1.1//NONSGML v1.0//EN
CALSCALE:GREGORIAN
METHOD:PUBLISH
X-WR-CALNAME:Christian Challenge - UCCS
X-ORIGINAL-URL:https://challengecos.com
X-WR-CALDESC:Events for Christian Challenge - UCCS
BEGIN:VTIMEZONE
TZID:America/Denver
BEGIN:DAYLIGHT
TZOFFSETFROM:-0700
TZOFFSETTO:-0600
TZNAME:MDT
DTSTART:20220313T090000
END:DAYLIGHT
BEGIN:STANDARD
TZOFFSETFROM:-0600
TZOFFSETTO:-0700
TZNAME:MST
DTSTART:20221106T080000
END:STANDARD
END:VTIMEZONE
BEGIN:VEVENT
DTSTART;TZID=America/Denver:20220508T190000
DTEND;TZID=America/Denver:20220508T220000
DTSTAMP:20260422T202028
CREATED:20220224T090401Z
LAST-MODIFIED:20220224T090515Z
UID:4142-1652036400-1652047200@challengecos.com
SUMMARY:Second Sundays: Study Break
DESCRIPTION:Take a break from your stressing and prepping for finals week and join us for some FREE food and fun. Our monthly dinner and game night will take place at 6722 Oasis Butte Dr. You are invited to come and go as needed between 7:00PM to 10:00PM. \nLoading… \n
URL:https://challengecos.com/event/second-sundays-study-break-2/
LOCATION:6722 Oasis Butte Dr\, 6722 Oasis Butte Dr\, Colorado Springs\, CO\, 80923\, United States
END:VEVENT
END:VCALENDAR