BEGIN:VCALENDAR
VERSION:2.0
PRODID:-//Christian Challenge - UCCS - ECPv5.1.1//NONSGML v1.0//EN
CALSCALE:GREGORIAN
METHOD:PUBLISH
X-WR-CALNAME:Christian Challenge - UCCS
X-ORIGINAL-URL:https://challengecos.com
X-WR-CALDESC:Events for Christian Challenge - UCCS
BEGIN:VTIMEZONE
TZID:America/Denver
BEGIN:DAYLIGHT
TZOFFSETFROM:-0700
TZOFFSETTO:-0600
TZNAME:MDT
DTSTART:20200308T090000
END:DAYLIGHT
BEGIN:STANDARD
TZOFFSETFROM:-0600
TZOFFSETTO:-0700
TZNAME:MST
DTSTART:20201101T080000
END:STANDARD
END:VTIMEZONE
BEGIN:VEVENT
DTSTART;TZID=America/Denver:20200913T190000
DTEND;TZID=America/Denver:20200913T220000
DTSTAMP:20260424T172749
CREATED:20200907T194607Z
LAST-MODIFIED:20200908T165041Z
UID:2433-1600023600-1600034400@challengecos.com
SUMMARY:Second Sundays: Freshmen & Friends
DESCRIPTION:Second Sundays is a monthly dinner and game night\, and it will take place at 6722 Oasis Butte Dr. This month\, FRESHMEN are encouraged to invite their college-age friends (even if they aren’t Freshmen) to join our staff and leadership team for a night of FREE food and fun!  You may come and go as needed between 7:00PM to 10:00PM. Please RSVP below if you plan to join us and let us know if you’ll be bringing friends. \n**Each month we will invite a different classification to help minimize the size of these gatherings.  We appreciate your understanding during these unique times.** \nLoading… \n
URL:https://challengecos.com/event/second-sundays-freshmen/
LOCATION:6722 Oasis Butte Dr\, 6722 Oasis Butte Dr\, Colorado Springs\, CO\, 80923\, United States
ATTACH;FMTTYPE=image/jpeg:https://challengecos.com/wp-content/uploads/2019/11/IMG_2927.jpg
ORGANIZER;CN="Kent%20Slack":MAILTO:challengeuccs@gmail.com
END:VEVENT
END:VCALENDAR