BEGIN:VCALENDAR
VERSION:2.0
PRODID:-//Christian Challenge - UCCS - ECPv5.1.1//NONSGML v1.0//EN
CALSCALE:GREGORIAN
METHOD:PUBLISH
X-WR-CALNAME:Christian Challenge - UCCS
X-ORIGINAL-URL:https://challengecos.com
X-WR-CALDESC:Events for Christian Challenge - UCCS
BEGIN:VTIMEZONE
TZID:America/Denver
BEGIN:DAYLIGHT
TZOFFSETFROM:-0700
TZOFFSETTO:-0600
TZNAME:MDT
DTSTART:20220313T090000
END:DAYLIGHT
BEGIN:STANDARD
TZOFFSETFROM:-0600
TZOFFSETTO:-0700
TZNAME:MST
DTSTART:20221106T080000
END:STANDARD
END:VTIMEZONE
BEGIN:VEVENT
DTSTART;TZID=America/Denver:20220410T190000
DTEND;TZID=America/Denver:20220410T220000
DTSTAMP:20260422T184131
CREATED:20220224T090221Z
LAST-MODIFIED:20220224T090221Z
UID:4140-1649617200-1649628000@challengecos.com
SUMMARY:Second Sundays
DESCRIPTION:Everyone is invited to join in on a night of FREE food and fun. This monthly dinner and game night will take place at 6722 Oasis Butte Dr. You are invited to come and go as needed between 7:00PM to 10:00PM. Please RSVP below if you plan to join us and let us know if you’ll be bringing friends. \nLoading… \n
URL:https://challengecos.com/event/second-sundays-5/
LOCATION:6722 Oasis Butte Dr\, 6722 Oasis Butte Dr\, Colorado Springs\, CO\, 80923\, United States
END:VEVENT
END:VCALENDAR