BEGIN:VCALENDAR
VERSION:2.0
PRODID:-//Christian Challenge - UCCS - ECPv5.1.1//NONSGML v1.0//EN
CALSCALE:GREGORIAN
METHOD:PUBLISH
X-WR-CALNAME:Christian Challenge - UCCS
X-ORIGINAL-URL:https://challengecos.com
X-WR-CALDESC:Events for Christian Challenge - UCCS
BEGIN:VTIMEZONE
TZID:America/Denver
BEGIN:DAYLIGHT
TZOFFSETFROM:-0700
TZOFFSETTO:-0600
TZNAME:MDT
DTSTART:20210314T090000
END:DAYLIGHT
BEGIN:STANDARD
TZOFFSETFROM:-0600
TZOFFSETTO:-0700
TZNAME:MST
DTSTART:20211107T080000
END:STANDARD
END:VTIMEZONE
BEGIN:VEVENT
DTSTART;TZID=America/Denver:20210629T183000
DTEND;TZID=America/Denver:20210629T183000
DTSTAMP:20260420T110113
CREATED:20210531T035553Z
LAST-MODIFIED:20210629T221419Z
UID:3493-1624991400-1624991400@challengecos.com
SUMMARY:Pie in the Park
DESCRIPTION:Come join us for a night full of pie and games in the park! This event has been a summer favorite\, so don’t miss out.  The plan is simple…lots of pies and lots of fun!  RSVP below so we can plan accordingly.\n\nUPDATE:  We think the weather will work for us to go ahead and meet at Dublin Park (2450 Roundtop Dr.).  If you have a camping chair or blanket feel free to bring it\, just in case we need more seating.  It’s going to be a fun night\, and we look forward to seeing you there!\nLoading… \n
URL:https://challengecos.com/event/pie-in-the-park/
LOCATION:Dublin Park\, 2450 Roundtop Dr.\, Colorado Springs\, 80918\, United States
ATTACH;FMTTYPE=image/png:https://challengecos.com/wp-content/uploads/2021/06/Pie-in-the-Park.png
ORGANIZER;CN="Kent%20Slack":MAILTO:challengeuccs@gmail.com
END:VEVENT
END:VCALENDAR