BEGIN:VCALENDAR
VERSION:2.0
PRODID:-//Christian Challenge - UCCS - ECPv5.1.1//NONSGML v1.0//EN
CALSCALE:GREGORIAN
METHOD:PUBLISH
X-WR-CALNAME:Christian Challenge - UCCS
X-ORIGINAL-URL:https://challengecos.com
X-WR-CALDESC:Events for Christian Challenge - UCCS
BEGIN:VTIMEZONE
TZID:America/Denver
BEGIN:DAYLIGHT
TZOFFSETFROM:-0700
TZOFFSETTO:-0600
TZNAME:MDT
DTSTART:20210314T090000
END:DAYLIGHT
BEGIN:STANDARD
TZOFFSETFROM:-0600
TZOFFSETTO:-0700
TZNAME:MST
DTSTART:20211107T080000
END:STANDARD
END:VTIMEZONE
BEGIN:VEVENT
DTSTART;TZID=America/Denver:20210727T190000
DTEND;TZID=America/Denver:20210727T190000
DTSTAMP:20260420T091043
CREATED:20210531T035728Z
LAST-MODIFIED:20210722T170343Z
UID:3495-1627412400-1627412400@challengecos.com
SUMMARY:Mini-Golf & Milkshakes
DESCRIPTION:It’s time for one of our favorite events of the summer…Mini-Golf & Milkshakes!  We’ll begin the evening at Legends Miniature Golf (6655 Dalby Dr.) at 7PM for a round of mini-golf.  Then we’ll make our way to Sonic (5250 New Car Dr.) to enjoy a milkshake\, slush\, or drink of your choice.  It will be a fun night and the cost is only $5. \nPayment Options:\n1-CASH: You can turn in your cash payment to Kent when you arrive on Tuesday night.\n2-VENMO: From your smart phone\, go here. (If the link doesn’t work\, search for Christian Challenge or @Pay4CC on your Venmo app.) \nRSVP and place your Sonic order through the form below.  We look forward to seeing you Tuesday night! \nLoading… \n
URL:https://challengecos.com/event/mini-golf-milkshakes/
LOCATION:Legends Miniature Golf\, 6655 Dalby Dr.\, Colorado Springs\, CO\, 80923\, United States
ATTACH;FMTTYPE=image/png:https://challengecos.com/wp-content/uploads/2021/07/Homepage-Template-3.png
ORGANIZER;CN="Kent%20Slack":MAILTO:challengeuccs@gmail.com
END:VEVENT
END:VCALENDAR