BEGIN:VCALENDAR
VERSION:2.0
PRODID:-//Christian Challenge - UCCS - ECPv5.1.1//NONSGML v1.0//EN
CALSCALE:GREGORIAN
METHOD:PUBLISH
X-WR-CALNAME:Christian Challenge - UCCS
X-ORIGINAL-URL:https://challengecos.com
X-WR-CALDESC:Events for Christian Challenge - UCCS
BEGIN:VTIMEZONE
TZID:America/Denver
BEGIN:DAYLIGHT
TZOFFSETFROM:-0700
TZOFFSETTO:-0600
TZNAME:MDT
DTSTART:20230312T090000
END:DAYLIGHT
BEGIN:STANDARD
TZOFFSETFROM:-0600
TZOFFSETTO:-0700
TZNAME:MST
DTSTART:20231105T080000
END:STANDARD
END:VTIMEZONE
BEGIN:VEVENT
DTSTART;TZID=America/Denver:20230711T190000
DTEND;TZID=America/Denver:20230711T190000
DTSTAMP:20260420T025953
CREATED:20230509T163154Z
LAST-MODIFIED:20230629T164700Z
UID:5365-1689102000-1689102000@challengecos.com
SUMMARY:Mini-Golf & Ice Cream
DESCRIPTION:It’s time for one of our favorite events of the summer…Mini-Golf & Ice Cream!  We’ll begin the evening at Lost Island (1825 Dominion Way) at 7PM for a round of mini-golf. Then we’ll make our way to Rizuto’s (4785 Barnes Rd.) to enjoy some delicious soft serve ice cream. It will be a fun night and the cost is only $5. \nPayment Options:\n1-CASH: You can turn in your cash payment to Jaymee or Anna when you arrive on Tuesday night.\n2-VENMO: From your smart phone\, go here. Please DO NOT tag your transaction as a “good or service”.  We are a non-profit\, and this money will be paid to Legends Miniature Golf.  We are simply collecting the payment so we can pay as a group.  (If the link doesn’t work\, search for Christian Challenge or @Pay4CC on your Venmo app.) \nPlease RSVP below to help us plan accordingly.  We look forward to seeing you there! \n﻿Loading… \n
URL:https://challengecos.com/event/mini-golf-ice-cream-2/
LOCATION:Lost Island\, 1825 Dominion Way\, Colorado Springs\, CO\, 80918\, United States
ATTACH;FMTTYPE=image/jpeg:https://challengecos.com/wp-content/uploads/2023/05/Winter-Retreat-50.jpg
ORGANIZER;CN="Jaymee%20Collins":MAILTO:j.j.collins12@gmail.com
END:VEVENT
END:VCALENDAR