BEGIN:VCALENDAR
VERSION:2.0
PRODID:-//Christian Challenge - UCCS - ECPv5.1.1//NONSGML v1.0//EN
CALSCALE:GREGORIAN
METHOD:PUBLISH
X-WR-CALNAME:Christian Challenge - UCCS
X-ORIGINAL-URL:https://challengecos.com
X-WR-CALDESC:Events for Christian Challenge - UCCS
BEGIN:VTIMEZONE
TZID:America/Denver
BEGIN:DAYLIGHT
TZOFFSETFROM:-0700
TZOFFSETTO:-0600
TZNAME:MDT
DTSTART:20220313T090000
END:DAYLIGHT
BEGIN:STANDARD
TZOFFSETFROM:-0600
TZOFFSETTO:-0700
TZNAME:MST
DTSTART:20221106T080000
END:STANDARD
END:VTIMEZONE
BEGIN:VEVENT
DTSTART;TZID=America/Denver:20220816T170000
DTEND;TZID=America/Denver:20220816T190000
DTSTAMP:20260419T131047
CREATED:20220804T205154Z
LAST-MODIFIED:20220804T205327Z
UID:4322-1660669200-1660676400@challengecos.com
SUMMARY:Lawn Games
DESCRIPTION:Take advantage of this opportunity to get to know some of the students already involved in Christian Challenge. We will be hanging out on Summit Turf (between Telluride and Vail) from 5:00PM to 7:00PM\, so please make plans to stop by. \n
URL:https://challengecos.com/event/lawn-games-2/
LOCATION:Summit Turf\, Telluride House 1420 Austin Bluffs Pkwy\, Colorado Springs\, CO\, 80918\, United States
ORGANIZER;CN="Kent%20Slack":MAILTO:challengeuccs@gmail.com
END:VEVENT
END:VCALENDAR