BEGIN:VCALENDAR
VERSION:2.0
PRODID:-//Christian Challenge - UCCS - ECPv5.1.1//NONSGML v1.0//EN
CALSCALE:GREGORIAN
METHOD:PUBLISH
X-WR-CALNAME:Christian Challenge - UCCS
X-ORIGINAL-URL:https://challengecos.com
X-WR-CALDESC:Events for Christian Challenge - UCCS
BEGIN:VTIMEZONE
TZID:America/Denver
BEGIN:DAYLIGHT
TZOFFSETFROM:-0700
TZOFFSETTO:-0600
TZNAME:MDT
DTSTART:20210314T090000
END:DAYLIGHT
BEGIN:STANDARD
TZOFFSETFROM:-0600
TZOFFSETTO:-0700
TZNAME:MST
DTSTART:20211107T080000
END:STANDARD
END:VTIMEZONE
BEGIN:VEVENT
DTSTART;TZID=America/Denver:20210828T120000
DTEND;TZID=America/Denver:20210828T140000
DTSTAMP:20260422T134945
CREATED:20210816T134559Z
LAST-MODIFIED:20210825T182647Z
UID:3612-1630152000-1630159200@challengecos.com
SUMMARY:Ice Blocking & Pizza
DESCRIPTION:Don’t miss out on this afternoon of ice blocking\, games\, food\, and laughs! Meet at Cottonwood Creek Park from Noon to 2:00PM. (Mapping Tip: the address is 3920 Dublin Blvd\, BUT it maps better if you type in Cottonwood Creek Family Center YMCA.  That is the parking lot you will want to get to.)  Bring a towel if you can (to use while ice blocking). And you’re welcome to bring a chair or blanket (in case the grass is wet).  It’s going to be a fun event\, and we look forward to seeing you there! \nWe encourage you to park in the YMCA parking lot\, near the basketball court to find us most easily.  We hope to be able to meet up at the top of the hill. You’ll find a link for mapping purposes in the “Venue” section below. \nPlease RSVP below to help us plan accordingly. \nLoading… \n
URL:https://challengecos.com/event/ice-blocking-pizza-2/
LOCATION:Cottonwood Creek Park\, 3920 Dublin Blvd\, Colorado Springs\, CO\, 80918\, United States
ATTACH;FMTTYPE=image/jpeg:https://challengecos.com/wp-content/uploads/2020/08/14615848_10154568381527641_7212569534892022008_o-e1598159287910.jpg
END:VEVENT
END:VCALENDAR