BEGIN:VCALENDAR
VERSION:2.0
PRODID:-//Christian Challenge - UCCS - ECPv5.1.1//NONSGML v1.0//EN
CALSCALE:GREGORIAN
METHOD:PUBLISH
X-WR-CALNAME:Christian Challenge - UCCS
X-ORIGINAL-URL:https://challengecos.com
X-WR-CALDESC:Events for Christian Challenge - UCCS
BEGIN:VTIMEZONE
TZID:America/Denver
BEGIN:DAYLIGHT
TZOFFSETFROM:-0700
TZOFFSETTO:-0600
TZNAME:MDT
DTSTART:20210314T090000
END:DAYLIGHT
BEGIN:STANDARD
TZOFFSETFROM:-0600
TZOFFSETTO:-0700
TZNAME:MST
DTSTART:20211107T080000
END:STANDARD
END:VTIMEZONE
BEGIN:VEVENT
DTSTART;VALUE=DATE:20211015
DTEND;VALUE=DATE:20211017
DTSTAMP:20260423T053812
CREATED:20211004T143905Z
LAST-MODIFIED:20211005T195642Z
UID:3784-1634266800-1634353199@challengecos.com
SUMMARY:Guys Night/ Girls Night
DESCRIPTION:As we get ready to kick off our guys’ and girls’ L.I.F.E. Groups\, this will be an exciting way to begin deepening relationships with other guys and girls in our ministry.  Check out the details below\, and make plans to join us.  And\, yes\, this will be a great event for you to invite your friends. \nGUYS:\nOur guys have planned a night of fun and games\, both inside and outside\, that will provide some friendly competition\, teamwork\, and a lot of laughs.  And before the night ends\, you will have the opportunity to help create your very own sweet treat\, that you’re sure to enjoy.  Don’t miss this.  Click here to sign up\, to help us keep you up to date on the plans!  The fun begins at 6PM\, and we will meet at 3121 Jon St.  (Dinner will not be provided\, so you may want to eat before you come.)  Be sure to sign up so you don’t miss out on any details. \nGIRLS:\nOur girls would like to “formally” invite you to a fun night spent together in downtown Colorado Springs.  You’re encouraged to get dressed up (although it’s not required)\, and enjoy a night of dinner\, dessert\, and a lot more fun.  The cost is $15 which will get you dinner at Bambino’s and dessert at Josh & John’s. (These locations do offer options for those with dietary restrictions/allergies.) The night officially begins at 7PM at 317 Elmwood\, BUT if you’d like to come early to get ready together you are welcome to come as early as 6PM. Click here to sign up\, and stay up to date with our plans! \n
URL:https://challengecos.com/event/guys-night-girls-night-2/
LOCATION:TBA
ATTACH;FMTTYPE=image/png:https://challengecos.com/wp-content/uploads/2019/10/monkimage-1.png
END:VEVENT
END:VCALENDAR