BEGIN:VCALENDAR
VERSION:2.0
PRODID:-//Christian Challenge - UCCS - ECPv5.1.1//NONSGML v1.0//EN
CALSCALE:GREGORIAN
METHOD:PUBLISH
X-WR-CALNAME:Christian Challenge - UCCS
X-ORIGINAL-URL:https://challengecos.com
X-WR-CALDESC:Events for Christian Challenge - UCCS
BEGIN:VTIMEZONE
TZID:America/Denver
BEGIN:DAYLIGHT
TZOFFSETFROM:-0700
TZOFFSETTO:-0600
TZNAME:MDT
DTSTART:20230312T090000
END:DAYLIGHT
BEGIN:STANDARD
TZOFFSETFROM:-0600
TZOFFSETTO:-0700
TZNAME:MST
DTSTART:20231105T080000
END:STANDARD
END:VTIMEZONE
BEGIN:VEVENT
DTSTART;VALUE=DATE:20230126
DTEND;VALUE=DATE:20230128
DTSTAMP:20260419T134038
CREATED:20230111T221730Z
LAST-MODIFIED:20230117T225624Z
UID:5030-1674702000-1674788399@challengecos.com
SUMMARY:Guys/Girls Night
DESCRIPTION:Our Leadership Team has planned two great events for the guys and girls. Follow the links below for all the details. \nGUYS: Click here for details about our Game Night event. \nGIRLS: Click here for details about our Disaster Dinner night event. \n
URL:https://challengecos.com/event/guys-girls-night-2/
ATTACH;FMTTYPE=image/png:https://challengecos.com/wp-content/uploads/2019/10/monkimage-1.png
END:VEVENT
END:VCALENDAR