BEGIN:VCALENDAR
VERSION:2.0
PRODID:-//Christian Challenge - UCCS - ECPv5.1.1//NONSGML v1.0//EN
CALSCALE:GREGORIAN
METHOD:PUBLISH
X-WR-CALNAME:Christian Challenge - UCCS
X-ORIGINAL-URL:https://challengecos.com
X-WR-CALDESC:Events for Christian Challenge - UCCS
BEGIN:VTIMEZONE
TZID:America/Denver
BEGIN:DAYLIGHT
TZOFFSETFROM:-0700
TZOFFSETTO:-0600
TZNAME:MDT
DTSTART:20220313T090000
END:DAYLIGHT
BEGIN:STANDARD
TZOFFSETFROM:-0600
TZOFFSETTO:-0700
TZNAME:MST
DTSTART:20221106T080000
END:STANDARD
END:VTIMEZONE
BEGIN:VEVENT
DTSTART;TZID=America/Denver:20220818T180000
DTEND;TZID=America/Denver:20220818T200000
DTSTAMP:20260419T150746
CREATED:20220804T205630Z
LAST-MODIFIED:20220814T230950Z
UID:4326-1660845600-1660852800@challengecos.com
SUMMARY:Group Games
DESCRIPTION:We’re back with a variety of group games that you won’t want to miss. Look for us on Summit Turf (between Telluride and Vail) at 6:00PM. Grab a friend and join the fun! \n
URL:https://challengecos.com/event/group-games-2/
LOCATION:Summit Turf\, Telluride House 1420 Austin Bluffs Pkwy\, Colorado Springs\, CO\, 80918\, United States
ORGANIZER;CN="Kent%20Slack":MAILTO:challengeuccs@gmail.com
END:VEVENT
END:VCALENDAR