BEGIN:VCALENDAR
VERSION:2.0
PRODID:-//Christian Challenge - UCCS - ECPv5.1.1//NONSGML v1.0//EN
CALSCALE:GREGORIAN
METHOD:PUBLISH
X-WR-CALNAME:Christian Challenge - UCCS
X-ORIGINAL-URL:https://challengecos.com
X-WR-CALDESC:Events for Christian Challenge - UCCS
BEGIN:VTIMEZONE
TZID:America/Denver
BEGIN:DAYLIGHT
TZOFFSETFROM:-0700
TZOFFSETTO:-0600
TZNAME:MDT
DTSTART:20220313T090000
END:DAYLIGHT
BEGIN:STANDARD
TZOFFSETFROM:-0600
TZOFFSETTO:-0700
TZNAME:MST
DTSTART:20221106T080000
END:STANDARD
END:VTIMEZONE
BEGIN:VEVENT
DTSTART;TZID=America/Denver:20220219T103000
DTEND;TZID=America/Denver:20220219T103000
DTSTAMP:20260424T202133
CREATED:20220212T003752Z
LAST-MODIFIED:20220215T034217Z
UID:4073-1645266600-1645266600@challengecos.com
SUMMARY:Galentines Day (Ladies Only!)
DESCRIPTION:Okay\, ladies\, this event is just for you!  You are invited to a special brunch on Saturday\, February 19th at 10:30AM.  You will meet at 5883 N. Nevada Ave. Apt. 3-122.  Dress comfy and come ready to enjoy our crepe bar.  Please make plans to come! \nPARKING INSTRUCTIONS & LINK TO MAP:\nWhile heading north on N. Nevada\, take the first right turn into the parking lot of The Lodges. Continue heading straight towards the building\, then turn right. There is a long lot on top of the parking garage you can park in. (Highlighted on the map found here.) Enter the building through the southmost door (starred on the map) and go up the first flight of stairs. Anna’s apartment\, 122\, is down the hall to the right. There will be signs and please call 970-214-2547 if you have any questions! \n﻿Loading… \n
URL:https://challengecos.com/event/galentines-day/
LOCATION:5883 N Nevada Ave\, 5883 N Nevada Ave\, Colorado Springs\, CO\, 80918
ATTACH;FMTTYPE=image/png:https://challengecos.com/wp-content/uploads/2022/02/Galentines-Website.png
END:VEVENT
END:VCALENDAR