BEGIN:VCALENDAR
VERSION:2.0
PRODID:-//Christian Challenge - UCCS - ECPv5.1.1//NONSGML v1.0//EN
CALSCALE:GREGORIAN
METHOD:PUBLISH
X-WR-CALNAME:Christian Challenge - UCCS
X-ORIGINAL-URL:https://challengecos.com
X-WR-CALDESC:Events for Christian Challenge - UCCS
BEGIN:VTIMEZONE
TZID:America/Denver
BEGIN:DAYLIGHT
TZOFFSETFROM:-0700
TZOFFSETTO:-0600
TZNAME:MDT
DTSTART:20230312T090000
END:DAYLIGHT
BEGIN:STANDARD
TZOFFSETFROM:-0600
TZOFFSETTO:-0700
TZNAME:MST
DTSTART:20231105T080000
END:STANDARD
END:VTIMEZONE
BEGIN:VEVENT
DTSTART;TZID=America/Denver:20230218T100000
DTEND;TZID=America/Denver:20230218T130000
DTSTAMP:20260419T170525
CREATED:20230111T230256Z
LAST-MODIFIED:20230201T020916Z
UID:5064-1676714400-1676725200@challengecos.com
SUMMARY:Galentines Day (Ladies Only!)
DESCRIPTION:\n\n\n\n\n\nPlease join us on Saturday February 18th for a cozy Galentine’s Day brunch! We’ll be meeting at 10:00am for a crepe bar at 3801 Manchester St. Bring any arts or crafts supplies you love like crochet\, paints\, embroidery or more. Dress in your comfiest clothes and enjoy the company of dear friends. Leave whenever you need to and please RSVP by Feb. 15th.\n(Feel free to park in the driveway or on the street on Westmoreland. You can enter through the gate to the right of the garage!)\n\n\n\n\n\n\n\n﻿﻿﻿﻿﻿﻿﻿Loading… \n
URL:https://challengecos.com/event/galentines-day-2/
ATTACH;FMTTYPE=image/png:https://challengecos.com/wp-content/uploads/2022/02/Galentines-Website.png
END:VEVENT
END:VCALENDAR