BEGIN:VCALENDAR
VERSION:2.0
PRODID:-//Christian Challenge - UCCS - ECPv5.1.1//NONSGML v1.0//EN
CALSCALE:GREGORIAN
METHOD:PUBLISH
X-WR-CALNAME:Christian Challenge - UCCS
X-ORIGINAL-URL:https://challengecos.com
X-WR-CALDESC:Events for Christian Challenge - UCCS
BEGIN:VTIMEZONE
TZID:America/Denver
BEGIN:DAYLIGHT
TZOFFSETFROM:-0700
TZOFFSETTO:-0600
TZNAME:MDT
DTSTART:20200308T090000
END:DAYLIGHT
BEGIN:STANDARD
TZOFFSETFROM:-0600
TZOFFSETTO:-0700
TZNAME:MST
DTSTART:20201101T080000
END:STANDARD
END:VTIMEZONE
BEGIN:VEVENT
DTSTART;TZID=America/Denver:20200611T190000
DTEND;TZID=America/Denver:20200611T200000
DTSTAMP:20260424T060737
CREATED:20200531T043955Z
LAST-MODIFIED:20200531T225224Z
UID:1926-1591902000-1591905600@challengecos.com
SUMMARY:Fresh Connect (for incoming freshmen only)
DESCRIPTION:\n			\n		\n			\n				\n				\n				\n				\n					\n				\n				\n				\n				\n				\n				\n				Fresh Connect is a time for you to connect with other incoming freshmen\, and to get to know a different upperclassman each week. \nJoin us for 1 hour each Thursday night (or as often as you can) for this informal online gathering.  This will be the perfect opportunity to get to know your future classmates! We will also spotlight a different upperclassmen each week.  Our upperclassmen look forward to getting to know you\, and helping you in your transition by sharing a bit of their own experiences from when they were freshmen. \nPlease feel free to invite other incoming freshmen you know to join in! \nClick here to join in on Fresh Connect this week. The meeting begins at 7PM\, but the room will be open a few minutes before that.  We look forward to seeing you there! \n			 \n			 \n				\n				\n				\n				\n				\n				\n				\n					\n					\n				\n				\n			\n			 \n				\n				\n			 \n				\n				\n			 		\n	\n	\n			\n		\n		
URL:https://challengecos.com/event/fresh-connect-2/
LOCATION:ZOOM
ATTACH;FMTTYPE=image/png:https://challengecos.com/wp-content/uploads/2020/05/Copy-of-Logo-Untitled-Design-1-e1590894041298.png
ORGANIZER;CN="Kent%20Slack":MAILTO:challengeuccs@gmail.com
END:VEVENT
END:VCALENDAR