BEGIN:VCALENDAR
VERSION:2.0
PRODID:-//Christian Challenge - UCCS - ECPv5.1.1//NONSGML v1.0//EN
CALSCALE:GREGORIAN
METHOD:PUBLISH
X-WR-CALNAME:Christian Challenge - UCCS
X-ORIGINAL-URL:https://challengecos.com
X-WR-CALDESC:Events for Christian Challenge - UCCS
BEGIN:VTIMEZONE
TZID:America/Denver
BEGIN:DAYLIGHT
TZOFFSETFROM:-0700
TZOFFSETTO:-0600
TZNAME:MDT
DTSTART:20230312T090000
END:DAYLIGHT
BEGIN:STANDARD
TZOFFSETFROM:-0600
TZOFFSETTO:-0700
TZNAME:MST
DTSTART:20231105T080000
END:STANDARD
END:VTIMEZONE
BEGIN:VEVENT
DTSTART;TZID=America/Denver:20230223T090000
DTEND;TZID=America/Denver:20230223T140000
DTSTAMP:20260419T221030
CREATED:20230220T181527Z
LAST-MODIFIED:20240219T174043Z
UID:5164-1677142800-1677160800@challengecos.com
SUMMARY:Collegiate Day of Prayer 2023
DESCRIPTION:\n			\n		\n			\n				\n				\n				\n				\n					\n				\n				\n				\n				\n				\n				\n				Join us on Thursday\, February 23\, 2023 for a day of prayer for revival and awakening on college campuses in America.  We will have opportunites for you to be praying from 9:00AM to 2:00PM\, and we hope you will make plans to particiapte. \nThroughout most of the day you will refer to the images below.  We’ve allotted an hour for each prayer prompt\, so hopefully you can join in somewhere during that time.  In doing so\, know that you are joining with others who are doing the same thing. These prayer prompts will help you to take full advantage of this day of prayer.  Feel free to meet up with others throughout the day to join in praying for the specific areas we’ve provided.  We even encourage you to spend some time praying on campus if you’re able to do so.  There is also a brief video near the bottom of the page that shares the history and significance of this day of prayer for college campuses. \nWe will also have a table set up in the University Center by the coffee shop for students\, faculty\, and staff to stop by and let us know how we can be praying for needs in their lives.  We encourage you to stop by and even invite other students to come with you anytime between 9AM and 2PM. \nWe also encourage you to click here to let us know how we can be praying specifically for you throughout the day.  You can also use this link to let us know how we can be praying for your friends and classmates. \n  \n			 \n			 \n				\n				\n			 \n				\n				\n				\n				\n				\n				\n				\n			\n			 \n				\n				\n				\n				\n				\n				\n			\n			 \n				\n				\n				\n				\n				\n				\n			\n			 \n				\n				\n			 \n				\n				\n				\n				\n				\n				\n				\n			\n			 \n				\n				\n				\n				\n				\n				\n			\n			 \n				\n				\n				\n				\n				\n				\n			\n			 \n				\n				\n			 \n				\n				\n				\n				\n				\n				\n				\n			\n			 \n				\n				\n				\n				\n				\n				\n			\n			 \n				\n				\n				\n				\n				\n				\n			\n			 \n				\n				\n			 \n				\n				\n				\n				\n				\n				\n				\n			\n			 \n				\n				\n				\n			 \n				\n				\n				\n			 \n				\n				\n			 \n				\n				\n				\n				\n				\n				\n				\n				\n			\n			 \n				\n				\n				\n				\n				\n				\n				\n			\n			 \n				\n				\n			 \n				\n				\n			 		\n	\n	\n			\n		\n		
URL:https://challengecos.com/event/day-of-prayer-2023/
LOCATION:University Center
ATTACH;FMTTYPE=image/jpeg:https://challengecos.com/wp-content/uploads/2023/02/Announcements-2.jpg
ORGANIZER;CN="Kent%20Slack":MAILTO:challengeuccs@gmail.com
END:VEVENT
END:VCALENDAR