BEGIN:VCALENDAR
VERSION:2.0
PRODID:-//Christian Challenge - UCCS - ECPv5.1.1//NONSGML v1.0//EN
CALSCALE:GREGORIAN
METHOD:PUBLISH
X-WR-CALNAME:Christian Challenge - UCCS
X-ORIGINAL-URL:https://challengecos.com
X-WR-CALDESC:Events for Christian Challenge - UCCS
BEGIN:VTIMEZONE
TZID:America/Denver
BEGIN:DAYLIGHT
TZOFFSETFROM:-0700
TZOFFSETTO:-0600
TZNAME:MDT
DTSTART:20220313T090000
END:DAYLIGHT
BEGIN:STANDARD
TZOFFSETFROM:-0600
TZOFFSETTO:-0700
TZNAME:MST
DTSTART:20221106T080000
END:STANDARD
END:VTIMEZONE
BEGIN:VEVENT
DTSTART;TZID=America/Denver:20220402T130000
DTEND;TZID=America/Denver:20220402T170000
DTSTAMP:20260422T184157
CREATED:20220224T082841Z
LAST-MODIFIED:20230731T210312Z
UID:4127-1648904400-1648918800@challengecos.com
SUMMARY:Crafts & Creations
DESCRIPTION:This is going to be such a fun day\, and we really hope you and your friends will make plans to join us!  There will be guided instruction for crochet\, painting\, and wood burning (some supplies will be limited and will be available on a first come\, first served basis).  We will also have assorted craft supplies for you to enjoy and create with.  You are also welcome to bring your own crafting tools/supplies for your own enjoyment or to share with others.  It’s going to be a fun day of hanging out\, creativity\, and relaxing.  We hope you’ll join us!  Please RSVP below. \nHere’s the schedule for the day… \nPAINTING:\n1:00PM – 3:00PM\n(guided instruction and supplies for up to 12 people\, first come first served) \nCROCHET:\n1:00PM – 2:30PM\n3:15PM – 4:30PM\n(guided instructions and supplies provided for both sessions)\n \nWOOD BURNING:\n2:00PM – 3:00PM\n3:00PM – 4:00PM\n4:00PM – 5:00PM\n(supplies provided with some guidance for all 3 sessions\, approx. 6 people per session)\n \nLoading… \n
URL:https://challengecos.com/event/crafts-creations/
LOCATION:3121 Jon St.\, 3121 Jon St.\, Colorado Springs\, CO\, 80907\, United States
END:VEVENT
END:VCALENDAR