BEGIN:VCALENDAR
VERSION:2.0
PRODID:-//Christian Challenge - UCCS - ECPv5.1.1//NONSGML v1.0//EN
CALSCALE:GREGORIAN
METHOD:PUBLISH
X-WR-CALNAME:Christian Challenge - UCCS
X-ORIGINAL-URL:https://challengecos.com
X-WR-CALDESC:Events for Christian Challenge - UCCS
BEGIN:VTIMEZONE
TZID:America/Denver
BEGIN:DAYLIGHT
TZOFFSETFROM:-0700
TZOFFSETTO:-0600
TZNAME:MDT
DTSTART:20200308T090000
END:DAYLIGHT
BEGIN:STANDARD
TZOFFSETFROM:-0600
TZOFFSETTO:-0700
TZNAME:MST
DTSTART:20201101T080000
END:STANDARD
END:VTIMEZONE
BEGIN:VEVENT
DTSTART;TZID=America/Denver:20200926T083000
DTEND;TZID=America/Denver:20200926T220000
DTSTAMP:20260424T211703
CREATED:20200914T220750Z
LAST-MODIFIED:20200925T175447Z
UID:2462-1601109000-1601157600@challengecos.com
SUMMARY:CHALLENGE: OneDay
DESCRIPTION:This one day will have it all\, and we invite you to be a part of as much as you are able. It will be a day of teaching\, prayer\, fun\, food\, friends\, and so much more. This will be a great way to begin the semester\, and build relationships within our ministry.  Don’t miss out on this!   \nYou’ll find a full list of all of our plans\, the schedule\, and the location details within the RSVP form below.  Please let us know when you’re coming so we can plan accordingly. We’d love for you to join us for the entire day (and you’ll want to\, too)\, but you can come and go as needed based on your availability.  And if you invite your friends (which we hope you do)\, please help us out by having them complete the RSVP form below\, as well. \nWE ASK THAT YOU PLEASE RSVP BY FRIDAY\, SEPTEMBER\, 25TH\, SO WE CAN PLAN ACCORDINGLY FOR EACH PARTICIPANT. \nLoading… \n**We do have a brief liability form for each participant to complete and turn in. If you want to save yourself a minute or two during OneDay\, you can download it here and bring it with you.  Otherwise we will have forms available at the event.** \n
URL:https://challengecos.com/event/challenge-oneday/
LOCATION:(see RSVP form for locations)
ATTACH;FMTTYPE=image/png:https://challengecos.com/wp-content/uploads/2020/09/Copy-of-GET-INVOLVED.png
ORGANIZER;CN="Kent%20Slack":MAILTO:challengeuccs@gmail.com
END:VEVENT
END:VCALENDAR