BEGIN:VCALENDAR
VERSION:2.0
PRODID:-//Christian Challenge - UCCS - ECPv5.1.1//NONSGML v1.0//EN
CALSCALE:GREGORIAN
METHOD:PUBLISH
X-WR-CALNAME:Christian Challenge - UCCS
X-ORIGINAL-URL:https://challengecos.com
X-WR-CALDESC:Events for Christian Challenge - UCCS
BEGIN:VTIMEZONE
TZID:America/Denver
BEGIN:DAYLIGHT
TZOFFSETFROM:-0700
TZOFFSETTO:-0600
TZNAME:MDT
DTSTART:20200308T090000
END:DAYLIGHT
BEGIN:STANDARD
TZOFFSETFROM:-0600
TZOFFSETTO:-0700
TZNAME:MST
DTSTART:20201101T080000
END:STANDARD
END:VTIMEZONE
BEGIN:VEVENT
DTSTART;TZID=America/Denver:20200202T160000
DTEND;TZID=America/Denver:20200202T220000
DTSTAMP:20260424T133940
CREATED:20200108T042505Z
LAST-MODIFIED:20200201T170212Z
UID:1226-1580659200-1580680800@challengecos.com
SUMMARY:Big Game Party
DESCRIPTION:The game will be great\, the commercials will be hilarious\, and the whole experience will be FREE!  Food and soft drinks will be provided.  All the fun will begin at 4:00PM.  Join us at 6722 Oasis Butte Dr.  Please RSVP below. \nLoading… \n
URL:https://challengecos.com/event/big-game-party/
LOCATION:6722 Oasis Butte Dr\, 6722 Oasis Butte Dr\, Colorado Springs\, CO\, 80923\, United States
ATTACH;FMTTYPE=image/jpeg:https://challengecos.com/wp-content/uploads/2020/01/College_football_watch_party-2-e1578462690327.jpg
ORGANIZER;CN="Kent%20Slack":MAILTO:challengeuccs@gmail.com
END:VEVENT
END:VCALENDAR