BEGIN:VCALENDAR
VERSION:2.0
PRODID:-//Christian Challenge - UCCS - ECPv5.1.1//NONSGML v1.0//EN
CALSCALE:GREGORIAN
METHOD:PUBLISH
X-WR-CALNAME:Christian Challenge - UCCS
X-ORIGINAL-URL:https://challengecos.com
X-WR-CALDESC:Events for Christian Challenge - UCCS
BEGIN:VTIMEZONE
TZID:America/Denver
BEGIN:DAYLIGHT
TZOFFSETFROM:-0700
TZOFFSETTO:-0600
TZNAME:MDT
DTSTART:20210314T090000
END:DAYLIGHT
BEGIN:STANDARD
TZOFFSETFROM:-0600
TZOFFSETTO:-0700
TZNAME:MST
DTSTART:20211107T080000
END:STANDARD
END:VTIMEZONE
BEGIN:VEVENT
DTSTART;TZID=America/Denver:20210824T191500
DTEND;TZID=America/Denver:20210824T191500
DTSTAMP:20260422T121320
CREATED:20210816T133805Z
LAST-MODIFIED:20210816T133805Z
UID:3608-1629832500-1629832500@challengecos.com
SUMMARY:Bible Study & Pizza
DESCRIPTION:Join us for our first Bible study of the semester at 7:15PM in the Upper Lodge. We will end the evening with pizza and games. Hope to see you there! \n
URL:https://challengecos.com/event/bible-study-pizza-3/
LOCATION:Upper Lodge\, Upper Lodge 25 Mountain Lion Way\, Colorado Springs\, CO\, 80918\, United States
ATTACH;FMTTYPE=image/jpeg:https://challengecos.com/wp-content/uploads/2019/08/IMG_2111.jpg
END:VEVENT
END:VCALENDAR