BEGIN:VCALENDAR
VERSION:2.0
PRODID:-//Christian Challenge - UCCS - ECPv5.1.1//NONSGML v1.0//EN
CALSCALE:GREGORIAN
METHOD:PUBLISH
X-WR-CALNAME:Christian Challenge - UCCS
X-ORIGINAL-URL:https://challengecos.com
X-WR-CALDESC:Events for Christian Challenge - UCCS
BEGIN:VTIMEZONE
TZID:America/Denver
BEGIN:DAYLIGHT
TZOFFSETFROM:-0700
TZOFFSETTO:-0600
TZNAME:MDT
DTSTART:20220313T090000
END:DAYLIGHT
BEGIN:STANDARD
TZOFFSETFROM:-0600
TZOFFSETTO:-0700
TZNAME:MST
DTSTART:20221106T080000
END:STANDARD
END:VTIMEZONE
BEGIN:VEVENT
DTSTART;TZID=America/Denver:20220215T191500
DTEND;TZID=America/Denver:20220215T191500
DTSTAMP:20260424T183556
CREATED:20220208T035416Z
LAST-MODIFIED:20220214T145634Z
UID:4067-1644952500-1644952500@challengecos.com
SUMMARY:Bible Study & After Challenge
DESCRIPTION:We’re having a great time at our weekly Bible study and we’d love for you to join us!  Please notice that we will be meeting at UCCS in the Upper Lodge this week. \nJoin us for a night of worship\, Bible study\, discussion\, and prayer.  And stick around afterward for our Winter Olympic themed After Challenge.  This week we’ll be playing hockey…so bring a friend and join in the fun! \nWe hope to see you this week! \n
URL:https://challengecos.com/event/bible-study-after-challenge-4/
LOCATION:Upper Lodge\, Upper Lodge 25 Mountain Lion Way\, Colorado Springs\, CO\, 80918\, United States
ATTACH;FMTTYPE=image/png:https://challengecos.com/wp-content/uploads/2022/02/Hockey-Website.png
END:VEVENT
END:VCALENDAR