BEGIN:VCALENDAR
VERSION:2.0
PRODID:-//Christian Challenge - UCCS - ECPv5.1.1//NONSGML v1.0//EN
CALSCALE:GREGORIAN
METHOD:PUBLISH
X-WR-CALNAME:Christian Challenge - UCCS
X-ORIGINAL-URL:https://challengecos.com
X-WR-CALDESC:Events for Christian Challenge - UCCS
BEGIN:VTIMEZONE
TZID:America/Denver
BEGIN:DAYLIGHT
TZOFFSETFROM:-0700
TZOFFSETTO:-0600
TZNAME:MDT
DTSTART:20220313T090000
END:DAYLIGHT
BEGIN:STANDARD
TZOFFSETFROM:-0600
TZOFFSETTO:-0700
TZNAME:MST
DTSTART:20221106T080000
END:STANDARD
END:VTIMEZONE
BEGIN:VEVENT
DTSTART;TZID=America/Denver:20220201T191500
DTEND;TZID=America/Denver:20220201T191500
DTSTAMP:20260424T164354
CREATED:20220131T153950Z
LAST-MODIFIED:20220131T154250Z
UID:4050-1643742900-1643742900@challengecos.com
SUMMARY:Bible Study
DESCRIPTION:We’ve had a great start to the new semester\, and we invite you AND your friends to join us this week!  Please notice that we’re meeting off campus for the next few weeks\, so please be sure to check out the information below. \nA local church has allowed us to use their building for our meetings for the next few weeks\, but we will be returning to campus soon!  So please join us this week at Garden Ranch Baptist Church located at 3830 Van Teylingen Dr.  We will be meeting at 7:15PM! \nJoin us for a night night of worship\, Bible study\, discussion\, and prayer.  And\, as always\, you’re invited to stick around afterward for the opportunity to get to know others within the group.  We hope to see you this week! \n
URL:https://challengecos.com/event/bible-study-68/
LOCATION:Garden Ranch Baptist Church\, 3830 Van Teylingen Dr.\, Colorado Springs\, CO\, 80917
ATTACH;FMTTYPE=image/jpeg:https://challengecos.com/wp-content/uploads/2022/01/IMG_4283-scaled-e1643643675890.jpg
END:VEVENT
END:VCALENDAR