BEGIN:VCALENDAR
VERSION:2.0
PRODID:-//Christian Challenge - UCCS - ECPv5.1.1//NONSGML v1.0//EN
CALSCALE:GREGORIAN
METHOD:PUBLISH
X-WR-CALNAME:Christian Challenge - UCCS
X-ORIGINAL-URL:https://challengecos.com
X-WR-CALDESC:Events for Christian Challenge - UCCS
BEGIN:VTIMEZONE
TZID:America/Denver
BEGIN:DAYLIGHT
TZOFFSETFROM:-0700
TZOFFSETTO:-0600
TZNAME:MDT
DTSTART:20220313T090000
END:DAYLIGHT
BEGIN:STANDARD
TZOFFSETFROM:-0600
TZOFFSETTO:-0700
TZNAME:MST
DTSTART:20221106T080000
END:STANDARD
END:VTIMEZONE
BEGIN:VEVENT
DTSTART;TZID=America/Denver:20220118T191500
DTEND;TZID=America/Denver:20220118T191500
DTSTAMP:20260422T220522
CREATED:20220118T005900Z
LAST-MODIFIED:20220118T010848Z
UID:4021-1642533300-1642533300@challengecos.com
SUMMARY:Bible Study & Chip/Salsa Bar
DESCRIPTION:We’re looking forward to starting the new semester with you!  We’ll be meeting off campus for the next few weeks\, so please be sure to check out the information below. \nJoin us at 7:15PM as we kick off the new semester!  A local church has allowed us to use their building for our meetings for the next few weeks as we figure out how things will be operating on campus.  But our hope is to be able to return to campus!  So please join us this week at Garden Ranch Baptist Church located at 3830 Van Teylingen Dr. \nThe night will be filled with worship\, Bible study\, discussion\, and prayer.  And this week we’ll end the night with a chip & salsa bar!  It’s going to be a great night\, and we’d love to see you there!  Be sure to invite a friend! \n
URL:https://challengecos.com/event/bible-study-66/
LOCATION:Garden Ranch Baptist Church\, 3830 Van Teylingen Dr.\, Colorado Springs\, CO\, 80917
END:VEVENT
END:VCALENDAR