BEGIN:VCALENDAR
VERSION:2.0
PRODID:-//Christian Challenge - UCCS - ECPv5.1.1//NONSGML v1.0//EN
CALSCALE:GREGORIAN
METHOD:PUBLISH
X-WR-CALNAME:Christian Challenge - UCCS
X-ORIGINAL-URL:https://challengecos.com
X-WR-CALDESC:Events for Christian Challenge - UCCS
BEGIN:VTIMEZONE
TZID:America/Denver
BEGIN:DAYLIGHT
TZOFFSETFROM:-0700
TZOFFSETTO:-0600
TZNAME:MDT
DTSTART:20210314T090000
END:DAYLIGHT
BEGIN:STANDARD
TZOFFSETFROM:-0600
TZOFFSETTO:-0700
TZNAME:MST
DTSTART:20211107T080000
END:STANDARD
END:VTIMEZONE
BEGIN:VEVENT
DTSTART;TZID=America/Denver:20210309T193000
DTEND;TZID=America/Denver:20210309T193000
DTSTAMP:20260423T005741
CREATED:20210224T161253Z
LAST-MODIFIED:20210308T072713Z
UID:3250-1615318200-1615318200@challengecos.com
SUMMARY:Bible Study & After Challenge
DESCRIPTION:Join us at 7:30PM at VGBC for a night of worship\, Bible study\, discussion\, and prayer.  It’s going to be a great night\, and we’d love to see you there!  This week we will end things a little early for some extra fun and games after Bible study.  We hope you will make plans to join us! \nVGBC is located at 5680 Stetson Hills Blvd. \nWe will be meeting in the sanctuary.  When you go inside the main doors of the church\, turn to the right and keep walking.  You should be able to see our sign-in table easily at that point. \n
URL:https://challengecos.com/event/bible-study-44/
LOCATION:VGBC\, 5680 Stetson Hills Blvd.\, Colorado Springs\, CO\, 80917
END:VEVENT
END:VCALENDAR